BEGIN:VCALENDAR
VERSION:2.0
PRODID:-//eventon.com NONSGML v1.0//EN
CALSCALE:GREGORIAN
METHOD:PUBLISH
BEGIN:VEVENT
UID:69ec04f255063
DTSTAMP:20260425T000402Z
DTSTART:20240203
DTEND:20240204
LOCATION:
SUMMARY:Downtown REPEAT Estate Sale
DESCRIPTION:Downtown REPEAT Estate Sale\nhttps://rondably.com/events/downto
 wn-repeat-estate-sale/
URL:https://rondably.com/events/downtown-repeat-estate-sale/
END:VEVENT
END:VCALENDAR