BEGIN:VCALENDAR
VERSION:2.0
PRODID:-//eventon.com NONSGML v1.0//EN
CALSCALE:GREGORIAN
METHOD:PUBLISH
BEGIN:VEVENT
UID:69e9c1441fcb4
DTSTAMP:20260423T065044Z
DTSTART:20240308
DTEND:20240309
LOCATION:
SUMMARY:Wesmount Estate Sale
DESCRIPTION:Wesmount Estate Sale\nhttps://rondably.com/events/wesmount-esta
 te-sale-2/
URL:https://rondably.com/events/wesmount-estate-sale-2/
END:VEVENT
END:VCALENDAR