BEGIN:VCALENDAR
VERSION:2.0
PRODID:-//eventon.com NONSGML v1.0//EN
CALSCALE:GREGORIAN
METHOD:PUBLISH
BEGIN:VEVENT
UID:69ebb992a8ec3
DTSTAMP:20260424T184226Z
DTSTART:20240316
DTEND:20240317
LOCATION:
SUMMARY:Wesmount Estate Sale - Continues
DESCRIPTION:Wesmount Estate Sale - Continues\nhttps://rondably.com/events/w
 esmount-estate-sale-continues/
URL:https://rondably.com/events/wesmount-estate-sale-continues/
END:VEVENT
END:VCALENDAR