BEGIN:VCALENDAR
VERSION:2.0
PRODID:-//eventon.com NONSGML v1.0//EN
CALSCALE:GREGORIAN
METHOD:PUBLISH
BEGIN:VEVENT
UID:69e78415a0ef6
DTSTAMP:20260421T140509Z
DTSTART:20240905
DTEND:20240906
LOCATION:
SUMMARY:Westmount Estate Sale
DESCRIPTION:Westmount Estate Sale\nhttps://rondably.com/events/westmount-es
 tate-sale-11/
URL:https://rondably.com/events/westmount-estate-sale-11/
END:VEVENT
END:VCALENDAR