BEGIN:VCALENDAR
VERSION:2.0
PRODID:-//eventon.com NONSGML v1.0//EN
CALSCALE:GREGORIAN
METHOD:PUBLISH
BEGIN:VEVENT
UID:69e737b7a7bd7
DTSTAMP:20260421T083919Z
DTSTART:20250221
DTEND:20250222
LOCATION:
SUMMARY:Westmount Estate Sale
DESCRIPTION:Westmount Estate Sale\nhttps://rondably.com/events/westmount-es
 tate-sale-14/
URL:https://rondably.com/events/westmount-estate-sale-14/
END:VEVENT
END:VCALENDAR