BEGIN:VCALENDAR
VERSION:2.0
PRODID:-//eventon.com NONSGML v1.0//EN
CALSCALE:GREGORIAN
METHOD:PUBLISH
BEGIN:VEVENT
UID:69e731cd69fd0
DTSTAMP:20260421T081405Z
DTSTART:20250328
DTEND:20250329
LOCATION:
SUMMARY:Golden Square Mile Estate Sale
DESCRIPTION:Golden Square Mile Estate Sale\nhttps://rondably.com/events/gol
 den-square-mile-estate-sale-3/
URL:https://rondably.com/events/golden-square-mile-estate-sale-3/
END:VEVENT
END:VCALENDAR