BEGIN:VCALENDAR
VERSION:2.0
PRODID:-//eventon.com NONSGML v1.0//EN
CALSCALE:GREGORIAN
METHOD:PUBLISH
BEGIN:VEVENT
UID:69ebada4e75d2
DTSTAMP:20260424T175132Z
DTSTART:20250405
DTEND:20250406
LOCATION:
SUMMARY:Côte Saint-Luc Estate Sale
DESCRIPTION:Côte Saint-Luc Estate Sale\nhttps://rondably.com/events/cote-s
 aint-luc-estate-sale-4/
URL:https://rondably.com/events/cote-saint-luc-estate-sale-4/
END:VEVENT
END:VCALENDAR