BEGIN:VCALENDAR
VERSION:2.0
PRODID:-//eventon.com NONSGML v1.0//EN
CALSCALE:GREGORIAN
METHOD:PUBLISH
BEGIN:VEVENT
UID:69e8ef80642f6
DTSTAMP:20260422T155544Z
DTSTART:20230908
DTEND:20230909
LOCATION:
SUMMARY:Vente de succession Mille carré doré
DESCRIPTION:Vente de succession Mille carré doré\nhttps://rondably.com/fr
 /events/vente-de-succession-mille-carre-dore/
URL:https://rondably.com/fr/events/vente-de-succession-mille-carre-dore/
END:VEVENT
END:VCALENDAR