BEGIN:VCALENDAR
VERSION:2.0
PRODID:-//eventon.com NONSGML v1.0//EN
CALSCALE:GREGORIAN
METHOD:PUBLISH
BEGIN:VEVENT
UID:69eb3751a1be8
DTSTAMP:20260424T092641Z
DTSTART:20231027
DTEND:20231028
LOCATION:
SUMMARY:Vente de succession Westmount
DESCRIPTION:Vente de succession Westmount\nhttps://rondably.com/fr/events/w
 estmount-estate-sale-4/
URL:https://rondably.com/fr/events/westmount-estate-sale-4/
END:VEVENT
END:VCALENDAR