BEGIN:VCALENDAR
VERSION:2.0
PRODID:-//eventon.com NONSGML v1.0//EN
CALSCALE:GREGORIAN
METHOD:PUBLISH
BEGIN:VEVENT
UID:69e737d2f070e
DTSTAMP:20260421T083946Z
DTSTART:20240112
DTEND:20240113
LOCATION:
SUMMARY:Vente de succession Centre-Ville
DESCRIPTION:Vente de succession Centre-Ville\nhttps://rondably.com/fr/event
 s/vente-de-succession-centre-ville/
URL:https://rondably.com/fr/events/vente-de-succession-centre-ville/
END:VEVENT
END:VCALENDAR