BEGIN:VCALENDAR
VERSION:2.0
PRODID:-//eventon.com NONSGML v1.0//EN
CALSCALE:GREGORIAN
METHOD:PUBLISH
BEGIN:VEVENT
UID:69ebeb3f3b1a9
DTSTAMP:20260424T221423Z
DTSTART:20240203
DTEND:20240204
LOCATION:
SUMMARY:Vente de Succession Centre-Ville - Prolongée
DESCRIPTION:Vente de Succession Centre-Ville - Prolongée\nhttps://rondably
 .com/fr/events/vente-de-succession-centre-ville-prolongee/
URL:https://rondably.com/fr/events/vente-de-succession-centre-ville-prolongee/
END:VEVENT
END:VCALENDAR