BEGIN:VCALENDAR
VERSION:2.0
PRODID:-//eventon.com NONSGML v1.0//EN
CALSCALE:GREGORIAN
METHOD:PUBLISH
BEGIN:VEVENT
UID:69e9a771c888e
DTSTAMP:20260423T050033Z
DTSTART:20240308
DTEND:20240309
LOCATION:
SUMMARY:Vente de succession Wesmount
DESCRIPTION:Vente de succession Wesmount\nhttps://rondably.com/fr/events/we
 smount-estate-sale-2/
URL:https://rondably.com/fr/events/wesmount-estate-sale-2/
END:VEVENT
END:VCALENDAR