BEGIN:VCALENDAR
VERSION:2.0
PRODID:-//eventon.com NONSGML v1.0//EN
CALSCALE:GREGORIAN
METHOD:PUBLISH
BEGIN:VEVENT
UID:69ebd369ac09b
DTSTAMP:20260424T203241Z
DTSTART:20240316
DTEND:20240317
LOCATION:
SUMMARY:Vente de succession Wesmount - La vente continue
DESCRIPTION:Vente de succession Wesmount - La vente continue\nhttps://ronda
 bly.com/fr/events/vente-de-succession-wesmount-la-vente-continue/
URL:https://rondably.com/fr/events/vente-de-succession-wesmount-la-vente-continue/
END:VEVENT
END:VCALENDAR