BEGIN:VCALENDAR
VERSION:2.0
PRODID:-//eventon.com NONSGML v1.0//EN
CALSCALE:GREGORIAN
METHOD:PUBLISH
BEGIN:VEVENT
UID:69e76db27969b
DTSTAMP:20260421T122938Z
DTSTART:20240905
DTEND:20240906
LOCATION:
SUMMARY:Vente de succession Westmount
DESCRIPTION:Vente de succession Westmount\nhttps://rondably.com/fr/events/w
 estmount-estate-sale-11/
URL:https://rondably.com/fr/events/westmount-estate-sale-11/
END:VEVENT
END:VCALENDAR