BEGIN:VCALENDAR
VERSION:2.0
PRODID:-//eventon.com NONSGML v1.0//EN
CALSCALE:GREGORIAN
METHOD:PUBLISH
BEGIN:VEVENT
UID:69e71865c0729
DTSTAMP:20260421T062541Z
DTSTART:20250328
DTEND:20250329
LOCATION:
SUMMARY:Vente de succession Mille carré doré
DESCRIPTION:Vente de succession Mille carré doré\nhttps://rondably.com/fr
 /events/vente-de-succession-mille-carre-dore-3/
URL:https://rondably.com/fr/events/vente-de-succession-mille-carre-dore-3/
END:VEVENT
END:VCALENDAR