BEGIN:VCALENDAR
VERSION:2.0
PRODID:-//eventon.com NONSGML v1.0//EN
CALSCALE:GREGORIAN
METHOD:PUBLISH
BEGIN:VEVENT
UID:69ebc758776bc
DTSTAMP:20260424T194112Z
DTSTART:20250405
DTEND:20250406
LOCATION:
SUMMARY:Vente de succession Côte Saint-Luc
DESCRIPTION:Vente de succession Côte Saint-Luc\nhttps://rondably.com/fr/ev
 ents/vente-de-succession-cote-saint-luc-4/
URL:https://rondably.com/fr/events/vente-de-succession-cote-saint-luc-4/
END:VEVENT
END:VCALENDAR